BEGIN:VCALENDAR
VERSION:2.0
PRODID:-//wp-events-plugin.com//7.2.3.1//EN
TZID:Europe/Berlin
X-WR-TIMEZONE:Europe/Berlin
BEGIN:VEVENT
UID:1@ksv-badlausick.de
DTSTART:20230421T190000Z
DTEND:20230421T200000Z
DTSTAMP:20230328T165713Z
URL:https://ksv-badlausick.de/events/mitgliedervollversammlung/
SUMMARY:Mitgliedervollversammlung
DESCRIPTION:
CATEGORIES:Pflichtveranstaltung
LOCATION:Trainingsstätte\, Erich Weinert Straße 32\, Bad Lausick\, Saxony
 \, 04651\, Deutschland
GEO:51.14549;12.66082
X-APPLE-STRUCTURED-LOCATION;VALUE=URI;X-ADDRESS=Erich Weinert Straße 32\, 
 Bad Lausick\, Saxony\, 04651\, Deutschland;X-APPLE-RADIUS=100;X-TITLE=Trai
 ningsstätte:geo:51.14549,12.66082
END:VEVENT
END:VCALENDAR