BEGIN:VCALENDAR
VERSION:2.0
PRODID:-//wp-events-plugin.com//7.2.3.1//EN
TZID:Europe/Berlin
X-WR-TIMEZONE:Europe/Berlin
BEGIN:VEVENT
UID:62@ksv-badlausick.de
DTSTART;TZID=Europe/Berlin;VALUE=DATE:20260704
DTEND;TZID=Europe/Berlin;VALUE=DATE:20260705
DTSTAMP:20260419T101733Z
URL:https://ksv-badlausick.de/events/klaus-weber-gedenkturnier-im-bankdrue
 cken/
SUMMARY:Klaus-Weber-Gedenkturnier im Bankdrücken
DESCRIPTION:
ATTACH;FMTTYPE=image/jpeg:https://ksv-badlausick.de/wp-content/uploads/202
 5/05/Anja-Klinger-vom-KSV-Bad-Lausick-drueckt-sich-mit-1125-Kilogramm-aufs
 -Podium.jpg
CATEGORIES:Wettkampf
LOCATION:Trainingsstätte\, Erich Weinert Straße 32\, Bad Lausick\, Saxony
 \, 04651\, Deutschland
GEO:51.14549;12.66082
X-APPLE-STRUCTURED-LOCATION;VALUE=URI;X-ADDRESS=Erich Weinert Straße 32\, 
 Bad Lausick\, Saxony\, 04651\, Deutschland;X-APPLE-RADIUS=100;X-TITLE=Trai
 ningsstätte:geo:51.14549,12.66082
END:VEVENT
BEGIN:VTIMEZONE
TZID:Europe/Berlin
X-LIC-LOCATION:Europe/Berlin
BEGIN:DAYLIGHT
DTSTART:20260329T030000
TZOFFSETFROM:+0100
TZOFFSETTO:+0200
TZNAME:CEST
END:DAYLIGHT
END:VTIMEZONE
END:VCALENDAR